BEGIN:VCALENDAR
VERSION:2.0
PRODID:-//Barrington Park District - ECPv6.15.20//NONSGML v1.0//EN
CALSCALE:GREGORIAN
METHOD:PUBLISH
X-ORIGINAL-URL:https://www.barringtonparkdistrict.org
X-WR-CALDESC:Events for Barrington Park District
REFRESH-INTERVAL;VALUE=DURATION:PT1H
X-Robots-Tag:noindex
X-PUBLISHED-TTL:PT1H
BEGIN:VTIMEZONE
TZID:America/Chicago
BEGIN:DAYLIGHT
TZOFFSETFROM:-0600
TZOFFSETTO:-0500
TZNAME:CDT
DTSTART:20250309T080000
END:DAYLIGHT
BEGIN:STANDARD
TZOFFSETFROM:-0500
TZOFFSETTO:-0600
TZNAME:CST
DTSTART:20251102T070000
END:STANDARD
BEGIN:DAYLIGHT
TZOFFSETFROM:-0600
TZOFFSETTO:-0500
TZNAME:CDT
DTSTART:20260308T080000
END:DAYLIGHT
BEGIN:STANDARD
TZOFFSETFROM:-0500
TZOFFSETTO:-0600
TZNAME:CST
DTSTART:20261101T070000
END:STANDARD
BEGIN:DAYLIGHT
TZOFFSETFROM:-0600
TZOFFSETTO:-0500
TZNAME:CDT
DTSTART:20270314T080000
END:DAYLIGHT
BEGIN:STANDARD
TZOFFSETFROM:-0500
TZOFFSETTO:-0600
TZNAME:CST
DTSTART:20271107T070000
END:STANDARD
END:VTIMEZONE
BEGIN:VEVENT
DTSTART;TZID=America/Chicago:20260313T180000
DTEND;TZID=America/Chicago:20260313T200000
DTSTAMP:20260420T103127
CREATED:20250318T201736Z
LAST-MODIFIED:20251231T200743Z
UID:23097-1773424800-1773432000@www.barringtonparkdistrict.org
SUMMARY:Family Nights: Lego Night (Winter/Spring)
DESCRIPTION:Sec.#\nDay\nDate\nTime\nFee\n\n\n01\nFri.\n3/13\n6:00 – 8:00pm\n$10/$13 (per person)\n\n\n\nTheme: LEGO® Night\nDinner: Hot Dog Bar\nLocation: F&RC – John Sullivan A/B\nAges: 3 Years and Up\n \nLet’s build with LEGO®! Working together as a family\, only your imagination is the limit. Create\, name your creation and compete for the top prize. Legos are provided\, but families may bring up to 2 LEGO® boards to showcase their creation. \n\nIn Partnership with:\nBricks of Hope™ is a nonprofit organization who’s mission is to brighten the lives of sick children in local hospitals with new LEGO® sets. Families who bring a NEW\, UNOPENED\, LEGO® SET for Bricks of Hope™ will receive a raffle ticket for a chance to win a family prize pack!\n\nRegister Now  \nRegistration for this program/event begins at 9:00am on12/4 for residents and 12/11 for non-residents. \n 
URL:https://www.barringtonparkdistrict.org/event/lego-night/
CATEGORIES:Special Events
END:VEVENT
END:VCALENDAR