BEGIN:VCALENDAR
VERSION:2.0
PRODID:-//Barrington Park District - ECPv6.15.20//NONSGML v1.0//EN
CALSCALE:GREGORIAN
METHOD:PUBLISH
X-ORIGINAL-URL:https://www.barringtonparkdistrict.org
X-WR-CALDESC:Events for Barrington Park District
REFRESH-INTERVAL;VALUE=DURATION:PT1H
X-Robots-Tag:noindex
X-PUBLISHED-TTL:PT1H
BEGIN:VTIMEZONE
TZID:America/Chicago
BEGIN:DAYLIGHT
TZOFFSETFROM:-0600
TZOFFSETTO:-0500
TZNAME:CDT
DTSTART:20250309T080000
END:DAYLIGHT
BEGIN:STANDARD
TZOFFSETFROM:-0500
TZOFFSETTO:-0600
TZNAME:CST
DTSTART:20251102T070000
END:STANDARD
BEGIN:DAYLIGHT
TZOFFSETFROM:-0600
TZOFFSETTO:-0500
TZNAME:CDT
DTSTART:20260308T080000
END:DAYLIGHT
BEGIN:STANDARD
TZOFFSETFROM:-0500
TZOFFSETTO:-0600
TZNAME:CST
DTSTART:20261101T070000
END:STANDARD
BEGIN:DAYLIGHT
TZOFFSETFROM:-0600
TZOFFSETTO:-0500
TZNAME:CDT
DTSTART:20270314T080000
END:DAYLIGHT
BEGIN:STANDARD
TZOFFSETFROM:-0500
TZOFFSETTO:-0600
TZNAME:CST
DTSTART:20271107T070000
END:STANDARD
END:VTIMEZONE
BEGIN:VEVENT
DTSTART;TZID=America/Chicago:20260317T093000
DTEND;TZID=America/Chicago:20260317T170000
DTSTAMP:20260420T103904
CREATED:20190408T190503Z
LAST-MODIFIED:20260105T181051Z
UID:4984-1773739800-1773766800@www.barringtonparkdistrict.org
SUMMARY:Day Trip: Feeling Groovy: Celebrating Paul Simon (Winter/Spring)
DESCRIPTION:Sec.#\nDay\nDate\nTime\nFee\n\n\n01\nTue.\n3/17\n9:30am – 5:00pm\n$72/$77 (1 day)\n\n\n\nGet into the good vibes as Broadway’s Michael Mahler celebrates pop music’s premier poet\, Paul Simon. In a virtuosic performance\, award-winning composer/lyricist and actor Mahler (Broadway’s Miss Saigon\, Diary of A Wimpy Kid) leads a folk-rock fantasia\, exploring Simon’s musical masterpieces and famous relationships with harmony\, humor and heart. Featuring a sublime band\, hit songs include “The Sound of Silence\,” “Bridge Over Troubled Water\,” “50 Ways To Leave Your Lover\,” “Late In The Evening\,” “Graceland” and “Me and Julio Down By The Schoolyard.” Before the show\, we will head for a self-pay lunch at a local restaurant. Moderate walking is involved with this trip. Registration/cancellation deadline: February 27 (spaces permitting). Transportation provided via Park District van. \n  \nRegistration for this program/event begins at 9:00am on12/4 for residents and 12/11 for non-residents. \n  \nRegister Now \n\nOur trips are perfect for those 21 years and older to get out and explore! \nTrip Policies & Cancellations\, Pick-up/Drop-off Locations and Times\nPick-up/drop-off location is at the Park District Fitness and Recreation Center lobby unless otherwise noted. We depart promptly at the times listed. If changes occur\, participants will be notified by phone or e-mail. Return times may vary depending on traffic and/or weather conditions; we make every attempt to return by the designated time. \nRefunds\nRefunds are only given under the following conditions:\n1: The trip is canceled by the Barrington Park District.\n2: The person asking for a refund finds a replacement for the trip.\n3: The Park District has a waiting list and is able to sell your ticket.\n4: If we have not met our registration minimum by the deadline date. \nNO CANCELLATIONS/REFUNDS WILL BE ACCEPTED AFTER THE REGISTRATION/CANCELLATION DEADLINE FOR EACH TRIP.\nAll payments are required in full at time of registration. Please notify the Park District in advance if any special ADA or dietary accommodations are needed for the trip. \n 
URL:https://www.barringtonparkdistrict.org/event/paul/
CATEGORIES:Adult Trips
END:VEVENT
END:VCALENDAR