BEGIN:VCALENDAR
VERSION:2.0
PRODID:-//Barrington Park District - ECPv6.15.20//NONSGML v1.0//EN
CALSCALE:GREGORIAN
METHOD:PUBLISH
X-WR-CALNAME:Barrington Park District
X-ORIGINAL-URL:https://www.barringtonparkdistrict.org
X-WR-CALDESC:Events for Barrington Park District
REFRESH-INTERVAL;VALUE=DURATION:PT1H
X-Robots-Tag:noindex
X-PUBLISHED-TTL:PT1H
BEGIN:VTIMEZONE
TZID:America/Chicago
BEGIN:DAYLIGHT
TZOFFSETFROM:-0600
TZOFFSETTO:-0500
TZNAME:CDT
DTSTART:20250309T080000
END:DAYLIGHT
BEGIN:STANDARD
TZOFFSETFROM:-0500
TZOFFSETTO:-0600
TZNAME:CST
DTSTART:20251102T070000
END:STANDARD
BEGIN:DAYLIGHT
TZOFFSETFROM:-0600
TZOFFSETTO:-0500
TZNAME:CDT
DTSTART:20260308T080000
END:DAYLIGHT
BEGIN:STANDARD
TZOFFSETFROM:-0500
TZOFFSETTO:-0600
TZNAME:CST
DTSTART:20261101T070000
END:STANDARD
BEGIN:DAYLIGHT
TZOFFSETFROM:-0600
TZOFFSETTO:-0500
TZNAME:CDT
DTSTART:20270314T080000
END:DAYLIGHT
BEGIN:STANDARD
TZOFFSETFROM:-0500
TZOFFSETTO:-0600
TZNAME:CST
DTSTART:20271107T070000
END:STANDARD
END:VTIMEZONE
BEGIN:VEVENT
DTSTART;TZID=America/Chicago:20260326T073000
DTEND;TZID=America/Chicago:20260326T183000
DTSTAMP:20260420T102954
CREATED:20190408T191045Z
LAST-MODIFIED:20260105T181140Z
UID:4988-1774510200-1774549800@www.barringtonparkdistrict.org
SUMMARY:Day Trip: House on The Rock (Winter/Spring)
DESCRIPTION:Sec.#\nDay\nDate\nTime\nFee\n\n\n01\nThur.\n3/26\n7:30am – 6:30pm\n$105/$110 (1 day)\n\n\n\nYou will want to see this spectacular attraction with building after building filled with some of the world’s most unique collections. You will experience the exotic\, the unusual and the unexpected! At the House on the Rock\, you will take a self-guided tour through indoor and outdoor exhibits. Please dress for the weather. Alex Jordan’s awesome retreat built atop a chimney of rock opened to the public in 1960. Some highlights include: the world’s largest carousel\, a 200′ sea creature\, automated music machines and much more.  Food is available as self-pay at their concession stand serving pizza\, sandwiches and snacks. This site has rough terrains\, stairs and various areas inaccessible by scooter and walker. Extensive walking is involved is involved with this trip. Registration/cancellation deadline: March 12 (spaces permitting). Transportation provided via Park District van to Crystal Lake and then motorcoach to Spring Green. \n  \nRegistration for this program/event begins at 9:00am on12/4 for residents and 12/11 for non-residents. \n  \nRegister Now \n\nOur trips are perfect for those 21 years and older to get out and explore! \nTrip Policies & Cancellations\, Pick-up/Drop-off Locations and Times\nPick-up/drop-off location is at the Park District Fitness and Recreation Center lobby unless otherwise noted. We depart promptly at the times listed. If changes occur\, participants will be notified by phone or e-mail. Return times may vary depending on traffic and/or weather conditions; we make every attempt to return by the designated time. \nRefunds\nRefunds are only given under the following conditions:\n1: The trip is canceled by the Barrington Park District.\n2: The person asking for a refund finds a replacement for the trip.\n3: The Park District has a waiting list and is able to sell your ticket.\n4: If we have not met our registration minimum by the deadline date. \nNO CANCELLATIONS/REFUNDS WILL BE ACCEPTED AFTER THE REGISTRATION/CANCELLATION DEADLINE FOR EACH TRIP.\nAll payments are required in full at time of registration. Please notify the Park District in advance if any special ADA or dietary accommodations are needed for the trip. \n 
URL:https://www.barringtonparkdistrict.org/event/house/
CATEGORIES:Adult Trips
END:VEVENT
END:VCALENDAR