BEGIN:VCALENDAR
VERSION:2.0
PRODID:-//Barrington Park District - ECPv6.15.20//NONSGML v1.0//EN
CALSCALE:GREGORIAN
METHOD:PUBLISH
X-WR-CALNAME:Barrington Park District
X-ORIGINAL-URL:https://www.barringtonparkdistrict.org
X-WR-CALDESC:Events for Barrington Park District
REFRESH-INTERVAL;VALUE=DURATION:PT1H
X-Robots-Tag:noindex
X-PUBLISHED-TTL:PT1H
BEGIN:VTIMEZONE
TZID:America/Chicago
BEGIN:DAYLIGHT
TZOFFSETFROM:-0600
TZOFFSETTO:-0500
TZNAME:CDT
DTSTART:20250309T080000
END:DAYLIGHT
BEGIN:STANDARD
TZOFFSETFROM:-0500
TZOFFSETTO:-0600
TZNAME:CST
DTSTART:20251102T070000
END:STANDARD
BEGIN:DAYLIGHT
TZOFFSETFROM:-0600
TZOFFSETTO:-0500
TZNAME:CDT
DTSTART:20260308T080000
END:DAYLIGHT
BEGIN:STANDARD
TZOFFSETFROM:-0500
TZOFFSETTO:-0600
TZNAME:CST
DTSTART:20261101T070000
END:STANDARD
BEGIN:DAYLIGHT
TZOFFSETFROM:-0600
TZOFFSETTO:-0500
TZNAME:CDT
DTSTART:20270314T080000
END:DAYLIGHT
BEGIN:STANDARD
TZOFFSETFROM:-0500
TZOFFSETTO:-0600
TZNAME:CST
DTSTART:20271107T070000
END:STANDARD
END:VTIMEZONE
BEGIN:VEVENT
DTSTART;TZID=America/Chicago:20260328T090000
DTEND;TZID=America/Chicago:20260328T103000
DTSTAMP:20260420T103815
CREATED:20191204T204824Z
LAST-MODIFIED:20260105T174023Z
UID:3870-1774688400-1774693800@www.barringtonparkdistrict.org
SUMMARY:Breakfast with the Bunny & Easter Egg Hunt
DESCRIPTION:Sec.#\nDay\nDate\nTime\nFee\n\n\n01 (Child)\nSat.\n3/28\n9:00 – 10:30am\n$20/$25 per person\n\n\n02 (Adult)\nSat.\n3/28\n9:00 – 10:30am\n$15/$19 per person\n\n\n\nEaster breakfast with the Bunny is an annual Park District tradition that you and your child won’t want to miss. A delicious\, catered breakfast is served while the Bunny’s helpers are busy hiding eggs. Immediately following the breakfast\, we’ll have our annual egg hunt outside. Remember to bring your basket! Registration is sold per seat. All children one year and up and all adults must be registered. Children must be accompanied by an adult. Please note: we respectfully ask parents to limit their children to 15 eggs so everyone gets their share! Registration deadline: 3/21 (spaces permitting) .  \n\nRegistration for this program/event begins at 9:00am on12/4 for residents and 12/11 for non-residents. \n  \nRegister Now
URL:https://www.barringtonparkdistrict.org/event/breakfast-with-the-bunny/
CATEGORIES:Special Events
END:VEVENT
BEGIN:VEVENT
DTSTART;TZID=America/Chicago:20260328T101500
DTEND;TZID=America/Chicago:20260328T103000
DTSTAMP:20260420T103815
CREATED:20241112T222942Z
LAST-MODIFIED:20260105T174103Z
UID:22081-1774692900-1774693800@www.barringtonparkdistrict.org
SUMMARY:Easter Egg Hunt
DESCRIPTION:Sec.#\nDay\nDate\nTime\nFee\n\n\n01\nSat.\n3/28\n10:15 – 10:30am\n$12/$15 per child\n\n\n\nHop all over Langendorf Park to see how many of the Easter Bunny’s eggs you can find! This annual Barrington tradition is fun for all ages\, children and parents alike. Inside each egg is a special treat; there are specially marked eggs that mean you’ve won an extra-fun prize! Children registered for Breakfast with the Bunny are automatically registered for the Egg Hunt. Note: We respectfully ask parents to limit their children to 15 eggs so everyone gets their share! Registration deadline: 3/21 (spaces permitting).  \n\nRegistration for this program/event begins at 9:00am on12/4 for residents and 12/11 for non-residents. \nRegister Now
URL:https://www.barringtonparkdistrict.org/event/easter-egg-hunt/
CATEGORIES:Special Events
END:VEVENT
END:VCALENDAR