BEGIN:VCALENDAR
VERSION:2.0
PRODID:-//Barrington Park District - ECPv6.15.20//NONSGML v1.0//EN
CALSCALE:GREGORIAN
METHOD:PUBLISH
X-WR-CALNAME:Barrington Park District
X-ORIGINAL-URL:https://www.barringtonparkdistrict.org
X-WR-CALDESC:Events for Barrington Park District
REFRESH-INTERVAL;VALUE=DURATION:PT1H
X-Robots-Tag:noindex
X-PUBLISHED-TTL:PT1H
BEGIN:VTIMEZONE
TZID:America/Chicago
BEGIN:DAYLIGHT
TZOFFSETFROM:-0600
TZOFFSETTO:-0500
TZNAME:CDT
DTSTART:20250309T080000
END:DAYLIGHT
BEGIN:STANDARD
TZOFFSETFROM:-0500
TZOFFSETTO:-0600
TZNAME:CST
DTSTART:20251102T070000
END:STANDARD
BEGIN:DAYLIGHT
TZOFFSETFROM:-0600
TZOFFSETTO:-0500
TZNAME:CDT
DTSTART:20260308T080000
END:DAYLIGHT
BEGIN:STANDARD
TZOFFSETFROM:-0500
TZOFFSETTO:-0600
TZNAME:CST
DTSTART:20261101T070000
END:STANDARD
BEGIN:DAYLIGHT
TZOFFSETFROM:-0600
TZOFFSETTO:-0500
TZNAME:CDT
DTSTART:20270314T080000
END:DAYLIGHT
BEGIN:STANDARD
TZOFFSETFROM:-0500
TZOFFSETTO:-0600
TZNAME:CST
DTSTART:20271107T070000
END:STANDARD
END:VTIMEZONE
BEGIN:VEVENT
DTSTART;TZID=America/Chicago:20260330T090000
DTEND;TZID=America/Chicago:20260402T170000
DTSTAMP:20260420T084102
CREATED:20211020T193741Z
LAST-MODIFIED:20260105T174210Z
UID:12556-1774861200-1775149200@www.barringtonparkdistrict.org
SUMMARY:Frontyard EGGstravaganza
DESCRIPTION:Sec.#\nDate\nFee\n\n\n01\n3/30 – 4/2\n$17/$21 per yard\n\n\n\nDo your kids love hunting for Easter eggs? Let the Barrington Park District staff help this year by hiding three dozen candy and toy-filled plastic Easter eggs around your front yard as well as putting up a sign from the Easter Bunny! Park District staff will come to your house between 9:00am – 5:00pm on 4/14 – 4/17. You will be notified the week of April 7 with the day eggs are being hidden. All participants must reside within 60010. If you would like to register a friend or family member\, please specify during registration. Registration deadline: 3/23 (spaces permitting).  \n\nRegistration for this program/event begins at 9:00am on12/4 for residents and 12/11 for non-residents. \n  \nRegister Now
URL:https://www.barringtonparkdistrict.org/event/frontyard-eggstravaganza/
CATEGORIES:Special Events
END:VEVENT
END:VCALENDAR