BEGIN:VCALENDAR
VERSION:2.0
PRODID:-//Barrington Park District - ECPv6.15.20//NONSGML v1.0//EN
CALSCALE:GREGORIAN
METHOD:PUBLISH
X-ORIGINAL-URL:https://www.barringtonparkdistrict.org
X-WR-CALDESC:Events for Barrington Park District
REFRESH-INTERVAL;VALUE=DURATION:PT1H
X-Robots-Tag:noindex
X-PUBLISHED-TTL:PT1H
BEGIN:VTIMEZONE
TZID:America/Chicago
BEGIN:DAYLIGHT
TZOFFSETFROM:-0600
TZOFFSETTO:-0500
TZNAME:CDT
DTSTART:20250309T080000
END:DAYLIGHT
BEGIN:STANDARD
TZOFFSETFROM:-0500
TZOFFSETTO:-0600
TZNAME:CST
DTSTART:20251102T070000
END:STANDARD
BEGIN:DAYLIGHT
TZOFFSETFROM:-0600
TZOFFSETTO:-0500
TZNAME:CDT
DTSTART:20260308T080000
END:DAYLIGHT
BEGIN:STANDARD
TZOFFSETFROM:-0500
TZOFFSETTO:-0600
TZNAME:CST
DTSTART:20261101T070000
END:STANDARD
BEGIN:DAYLIGHT
TZOFFSETFROM:-0600
TZOFFSETTO:-0500
TZNAME:CDT
DTSTART:20270314T080000
END:DAYLIGHT
BEGIN:STANDARD
TZOFFSETFROM:-0500
TZOFFSETTO:-0600
TZNAME:CST
DTSTART:20271107T070000
END:STANDARD
END:VTIMEZONE
BEGIN:VEVENT
DTSTART;TZID=America/Chicago:20260527T103000
DTEND;TZID=America/Chicago:20260527T183000
DTSTAMP:20260420T102025
CREATED:20190805T210041Z
LAST-MODIFIED:20260105T181652Z
UID:5861-1779877800-1779906600@www.barringtonparkdistrict.org
SUMMARY:Day Trip: South Pacific at The Paramount (Winter/Spring)
DESCRIPTION:Sec.#\nDay\nDate\nTime\nFee\n\n\n01\nWed.\n5/27\n10:30am – 6:30pm\n$61/$66 (1 day)\n\n\n\n“If you don’t have a dream\, how you gonna have a dream come true?” Winner of 10 Tony Awards\, including Best Book and Best Score\, South Pacific is a sweeping musical set against the backdrop of a tropical island during World War II. Amid ocean breezes and the roar of B-29 bombers\, Ensign Nellie Forbush and Lt. Joseph Cable find themselves caught between duty and desire while navigating war\, romance and the realities of a divided world. This beloved Rodgers and Hammerstein classic challenges prejudice and celebrates the beauty of cultural understanding\, all while delivering some of Broadway’s most iconic songs – “Some Enchanted Evening\,” “I’m Gonna Wash That Man Right Outa My Hair” and “Bali Ha’i.” South Pacific remains a powerful\, resonant story about love\, sacrifice and the dreams that carry us forward. Purchase lunch on your own prior to the show at a local restaurant. Minimal walking is involved with this trip. Registration/cancellation deadline: May 1 (spaces permitting). Transportation provided via Park District van. \n  \nRegistration for this program/event begins at 9:00am on12/4 for residents and 12/11 for non-residents. \n  \nRegister Now \n\nOur trips are perfect for those 21 years and older to get out and explore! \nTrip Policies & Cancellations\, Pick-up/Drop-off Locations and Times\nPick-up/drop-off location is at the Park District Fitness and Recreation Center lobby unless otherwise noted. We depart promptly at the times listed. If changes occur\, participants will be notified by phone or e-mail. Return times may vary depending on traffic and/or weather conditions; we make every attempt to return by the designated time. \nRefunds\nRefunds are only given under the following conditions:\n1: The trip is canceled by the Barrington Park District.\n2: The person asking for a refund finds a replacement for the trip.\n3: The Park District has a waiting list and is able to sell your ticket.\n4: If we have not met our registration minimum by the deadline date. \nNO CANCELLATIONS/REFUNDS WILL BE ACCEPTED AFTER THE REGISTRATION/CANCELLATION DEADLINE FOR EACH TRIP.\nAll payments are required in full at time of registration. Please notify the Park District in advance if any special ADA or dietary accommodations are needed for the trip. \n  \n 
URL:https://www.barringtonparkdistrict.org/event/south-pacific/
CATEGORIES:Adult Trips
END:VEVENT
END:VCALENDAR