BEGIN:VCALENDAR
VERSION:2.0
PRODID:-//Barrington Park District - ECPv6.15.20//NONSGML v1.0//EN
CALSCALE:GREGORIAN
METHOD:PUBLISH
X-ORIGINAL-URL:https://www.barringtonparkdistrict.org
X-WR-CALDESC:Events for Barrington Park District
REFRESH-INTERVAL;VALUE=DURATION:PT1H
X-Robots-Tag:noindex
X-PUBLISHED-TTL:PT1H
BEGIN:VTIMEZONE
TZID:America/Chicago
BEGIN:DAYLIGHT
TZOFFSETFROM:-0600
TZOFFSETTO:-0500
TZNAME:CDT
DTSTART:20250309T080000
END:DAYLIGHT
BEGIN:STANDARD
TZOFFSETFROM:-0500
TZOFFSETTO:-0600
TZNAME:CST
DTSTART:20251102T070000
END:STANDARD
BEGIN:DAYLIGHT
TZOFFSETFROM:-0600
TZOFFSETTO:-0500
TZNAME:CDT
DTSTART:20260308T080000
END:DAYLIGHT
BEGIN:STANDARD
TZOFFSETFROM:-0500
TZOFFSETTO:-0600
TZNAME:CST
DTSTART:20261101T070000
END:STANDARD
BEGIN:DAYLIGHT
TZOFFSETFROM:-0600
TZOFFSETTO:-0500
TZNAME:CDT
DTSTART:20270314T080000
END:DAYLIGHT
BEGIN:STANDARD
TZOFFSETFROM:-0500
TZOFFSETTO:-0600
TZNAME:CST
DTSTART:20271107T070000
END:STANDARD
END:VTIMEZONE
BEGIN:VEVENT
DTSTART;TZID=America/Chicago:20260206T180000
DTEND;TZID=America/Chicago:20260206T203000
DTSTAMP:20260420T173357
CREATED:20191204T110044Z
LAST-MODIFIED:20260105T175549Z
UID:3864-1770400800-1770409800@www.barringtonparkdistrict.org
SUMMARY:Special Event: Indoor Drive-In Movie Night - How to Train Your Dragon (Winter/Spring)
DESCRIPTION:Sec.#\nDay\nDate\nTime\nFee\n\n\n01\nFri.\n2/6\n6:00 – End of Movie\n$14/$18 (per child)\n\n\n02\nFri.\n2/6\n6:00 – End of Movie\n$10/$14 (per adult)\n\n\n\nThe Barrington Park District takes a step back in time with an old fashioned\, indoor\, drive-in movie night! A cardboard box and decorations will be supplied to each child to create a car with their family that they can sit in to enjoy the featured presentation\, “How to Train Your Dragon”. Car designing will begin at 6:00pm\, followed by the movie screening at 6:30pm. Each vehicle will be provided a limited menu (popcorn\, snacks\, juice box and water) along with a flag to raise so our waitresses know when to take their order! Coffee and snacks will be provided for adults. \nParents are welcome to sit on the floor next to their child(ren)\, otherwise\, chairs will be provided along the perimeter of the room. \nRegistration deadline: 2/2 (spaces permitting)\nLocation: F&RC – John Sullivan A/B \nThank you to our Sponsors:\nBarrington Bank & Trust\nUPS of Lake Zurich \n\nRegistration for this program/event begins at 9:00am on12/4 for residents and 12/11 for non-residents. \n  \n  \nRegister Now
URL:https://www.barringtonparkdistrict.org/event/indoor-drive-in-movie-night/
CATEGORIES:Special Events
END:VEVENT
END:VCALENDAR